BEGIN:VCALENDAR
VERSION:2.0
PRODID:-//TuS Bothel - ECPv6.15.16//NONSGML v1.0//EN
CALSCALE:GREGORIAN
METHOD:PUBLISH
X-WR-CALNAME:TuS Bothel
X-ORIGINAL-URL:https://cms.tus-bothel.de
X-WR-CALDESC:Veranstaltungen für TuS Bothel
REFRESH-INTERVAL;VALUE=DURATION:PT1H
X-Robots-Tag:noindex
X-PUBLISHED-TTL:PT1H
BEGIN:VTIMEZONE
TZID:Europe/Berlin
BEGIN:DAYLIGHT
TZOFFSETFROM:+0100
TZOFFSETTO:+0200
TZNAME:CEST
DTSTART:20250330T010000
END:DAYLIGHT
BEGIN:STANDARD
TZOFFSETFROM:+0200
TZOFFSETTO:+0100
TZNAME:CET
DTSTART:20251026T010000
END:STANDARD
BEGIN:DAYLIGHT
TZOFFSETFROM:+0100
TZOFFSETTO:+0200
TZNAME:CEST
DTSTART:20260329T010000
END:DAYLIGHT
BEGIN:STANDARD
TZOFFSETFROM:+0200
TZOFFSETTO:+0100
TZNAME:CET
DTSTART:20261025T010000
END:STANDARD
BEGIN:DAYLIGHT
TZOFFSETFROM:+0100
TZOFFSETTO:+0200
TZNAME:CEST
DTSTART:20270328T010000
END:DAYLIGHT
BEGIN:STANDARD
TZOFFSETFROM:+0200
TZOFFSETTO:+0100
TZNAME:CET
DTSTART:20271031T010000
END:STANDARD
END:VTIMEZONE
BEGIN:VEVENT
DTSTART;TZID=Europe/Berlin:20260901T140000
DTEND;TZID=Europe/Berlin:20260901T170000
DTSTAMP:20260421T120712
CREATED:20260218T075208Z
LAST-MODIFIED:20260218T075208Z
UID:6971-1788271200-1788282000@cms.tus-bothel.de
SUMMARY:Treffen Fibromyalgie Gruppe Annett Korge
DESCRIPTION:
URL:https://cms.tus-bothel.de/termin/treffen-fibromyalgie-gruppe-annett-korge-19/
LOCATION:Sporthaus
CATEGORIES:Sporthaus-Belegung
END:VEVENT
BEGIN:VEVENT
DTSTART;TZID=Europe/Berlin:20260902T190000
DTEND;TZID=Europe/Berlin:20260902T210000
DTSTAMP:20260421T120712
CREATED:20260316T145129Z
LAST-MODIFIED:20260316T145129Z
UID:7060-1788375600-1788382800@cms.tus-bothel.de
SUMMARY:Bewegung in XXL
DESCRIPTION:
URL:https://cms.tus-bothel.de/termin/bewegung-in-xxl-81/
LOCATION:Sporthaus
CATEGORIES:Sporthaus-Belegung
END:VEVENT
BEGIN:VEVENT
DTSTART;TZID=Europe/Berlin:20260907T190000
DTEND;TZID=Europe/Berlin:20260907T220000
DTSTAMP:20260421T120712
CREATED:20260316T145713Z
LAST-MODIFIED:20260316T145713Z
UID:7070-1788807600-1788818400@cms.tus-bothel.de
SUMMARY:TuS Bothel Vorstandssitzung
DESCRIPTION:
URL:https://cms.tus-bothel.de/termin/tus-bothel-vorstandssitzung-8/
LOCATION:Sporthaus
CATEGORIES:Sporthaus-Belegung
END:VEVENT
BEGIN:VEVENT
DTSTART;TZID=Europe/Berlin:20260909T190000
DTEND;TZID=Europe/Berlin:20260909T210000
DTSTAMP:20260421T120712
CREATED:20260316T145304Z
LAST-MODIFIED:20260316T145304Z
UID:7062-1788980400-1788987600@cms.tus-bothel.de
SUMMARY:Bewegung in XXL
DESCRIPTION:
URL:https://cms.tus-bothel.de/termin/bewegung-in-xxl-82/
LOCATION:Sporthaus
CATEGORIES:Sporthaus-Belegung
END:VEVENT
BEGIN:VEVENT
DTSTART;TZID=Europe/Berlin:20260914T193000
DTEND;TZID=Europe/Berlin:20260914T220000
DTSTAMP:20260421T120712
CREATED:20260316T145756Z
LAST-MODIFIED:20260316T145756Z
UID:7072-1789414200-1789423200@cms.tus-bothel.de
SUMMARY:JFV Vorstandssitzung
DESCRIPTION:
URL:https://cms.tus-bothel.de/termin/jfv-vorstandssitzung-26/
LOCATION:Sporthaus
CATEGORIES:Sporthaus-Belegung
END:VEVENT
BEGIN:VEVENT
DTSTART;TZID=Europe/Berlin:20260916T190000
DTEND;TZID=Europe/Berlin:20260916T210000
DTSTAMP:20260421T120712
CREATED:20260316T145400Z
LAST-MODIFIED:20260316T145400Z
UID:7064-1789585200-1789592400@cms.tus-bothel.de
SUMMARY:Bewegung in XXL
DESCRIPTION:
URL:https://cms.tus-bothel.de/termin/bewegung-in-xxl-83/
LOCATION:Sporthaus
CATEGORIES:Sporthaus-Belegung
END:VEVENT
BEGIN:VEVENT
DTSTART;TZID=Europe/Berlin:20260923T190000
DTEND;TZID=Europe/Berlin:20260923T210000
DTSTAMP:20260421T120712
CREATED:20260316T145454Z
LAST-MODIFIED:20260316T145454Z
UID:7066-1790190000-1790197200@cms.tus-bothel.de
SUMMARY:Bewegung in XXL
DESCRIPTION:
URL:https://cms.tus-bothel.de/termin/bewegung-in-xxl-84/
LOCATION:Sporthaus
CATEGORIES:Sporthaus-Belegung
END:VEVENT
BEGIN:VEVENT
DTSTART;TZID=Europe/Berlin:20260930T190000
DTEND;TZID=Europe/Berlin:20260930T210000
DTSTAMP:20260421T120712
CREATED:20260316T145547Z
LAST-MODIFIED:20260316T145547Z
UID:7068-1790794800-1790802000@cms.tus-bothel.de
SUMMARY:Bewegung in XXL
DESCRIPTION:
URL:https://cms.tus-bothel.de/termin/bewegung-in-xxl-85/
LOCATION:Sporthaus
CATEGORIES:Sporthaus-Belegung
END:VEVENT
END:VCALENDAR